﻿BEGIN:VCALENDAR
VERSION:2.0
PRODID:-//Bienvenue sur le site de la FFMC 91 - ECPv6.15.20//NONSGML v1.0//EN
CALSCALE:GREGORIAN
METHOD:PUBLISH
X-ORIGINAL-URL:https://www.ffmc91.fr
X-WR-CALDESC:Évènements pour Bienvenue sur le site de la FFMC 91
REFRESH-INTERVAL;VALUE=DURATION:PT1H
X-Robots-Tag:noindex
X-PUBLISHED-TTL:PT1H
BEGIN:VTIMEZONE
TZID:Europe/Paris
BEGIN:DAYLIGHT
TZOFFSETFROM:+0100
TZOFFSETTO:+0200
TZNAME:CEST
DTSTART:20250330T010000
END:DAYLIGHT
BEGIN:STANDARD
TZOFFSETFROM:+0200
TZOFFSETTO:+0100
TZNAME:CET
DTSTART:20251026T010000
END:STANDARD
BEGIN:DAYLIGHT
TZOFFSETFROM:+0100
TZOFFSETTO:+0200
TZNAME:CEST
DTSTART:20260329T010000
END:DAYLIGHT
BEGIN:STANDARD
TZOFFSETFROM:+0200
TZOFFSETTO:+0100
TZNAME:CET
DTSTART:20261025T010000
END:STANDARD
BEGIN:DAYLIGHT
TZOFFSETFROM:+0100
TZOFFSETTO:+0200
TZNAME:CEST
DTSTART:20270328T010000
END:DAYLIGHT
BEGIN:STANDARD
TZOFFSETFROM:+0200
TZOFFSETTO:+0100
TZNAME:CET
DTSTART:20271031T010000
END:STANDARD
END:VTIMEZONE
BEGIN:VEVENT
DTSTART;TZID=Europe/Paris:20260912T070000
DTEND;TZID=Europe/Paris:20260912T190000
DTSTAMP:20260423T044717
CREATED:20260203T113754Z
LAST-MODIFIED:20260203T113754Z
UID:5885-1789196400-1789239600@www.ffmc91.fr
SUMMARY:JUMBO-RUN IADES de Dourdan
DESCRIPTION:Grand Evènement « Balade avec des personnes Handicapées » (Mentale et/ou Moteurs) qui a lieu tous les 2 ans \nOrganisateur : IADES de Dourdan \nService d’Ordre : Assuré par la FFMC91 (entre autres) \n\nBesoin de Motos solos : soit pour transporter une personne se tenant correctement ou soit faire partis du Service d’Ordre\nBesoin de Trikes\nBesoin de Side-Cars\n\nLe Jumbo Run 2024 c’était :\n\n\n130 motos\, side-cars\, trikes et quad partis à 9H de Dourdan\n130 km de balade sur les routes de l’Essonne et des Yvelines\n100 passagers en situation de handicap et professionnels de l’IADES\nun très long convoi admirablement bien sécurisé par 30 motards volants\nun trajet préparé soigneusement par la commission Jumbo\n\n\nPlus d’informations à suivre
URL:https://www.ffmc91.fr/event/jumbo-run-iades-de-dourdan/
LOCATION:Dourdan\, 7 rue de l'Ermitage\, Dourdan\, 91410\, France
CATEGORIES:Evènement FFMC 91,Evènement moto
ORGANIZER;CN="FFMC 91":MAILTO:contact@ffmc91.fr
END:VEVENT
BEGIN:VEVENT
DTSTART;TZID=Europe/Paris:20260924T203000
DTEND;TZID=Europe/Paris:20260924T220000
DTSTAMP:20260423T044717
CREATED:20260330T110527Z
LAST-MODIFIED:20260330T110527Z
UID:5962-1790281800-1790287200@www.ffmc91.fr
SUMMARY:Réunion plénière
DESCRIPTION:
URL:https://www.ffmc91.fr/event/reunion-pleniere-25/
LOCATION:Leuville-sur-Orge\, 8 Avenue du Parc\, Leuville-sur-Orge\, 91310\, France
CATEGORIES:Réunions Plénières
ORGANIZER;CN="FFMC 91":MAILTO:contact@ffmc91.fr
END:VEVENT
END:VCALENDAR